BEGIN:VCALENDAR
VERSION:2.0
PRODID:-//NHTI - ECPv6.15.20//NONSGML v1.0//EN
CALSCALE:GREGORIAN
METHOD:PUBLISH
X-ORIGINAL-URL:https://www.nhti.edu
X-WR-CALDESC:Events for NHTI
REFRESH-INTERVAL;VALUE=DURATION:PT1H
X-Robots-Tag:noindex
X-PUBLISHED-TTL:PT1H
BEGIN:VTIMEZONE
TZID:America/New_York
BEGIN:DAYLIGHT
TZOFFSETFROM:-0500
TZOFFSETTO:-0400
TZNAME:EDT
DTSTART:20240310T070000
END:DAYLIGHT
BEGIN:STANDARD
TZOFFSETFROM:-0400
TZOFFSETTO:-0500
TZNAME:EST
DTSTART:20241103T060000
END:STANDARD
BEGIN:DAYLIGHT
TZOFFSETFROM:-0500
TZOFFSETTO:-0400
TZNAME:EDT
DTSTART:20250309T070000
END:DAYLIGHT
BEGIN:STANDARD
TZOFFSETFROM:-0400
TZOFFSETTO:-0500
TZNAME:EST
DTSTART:20251102T060000
END:STANDARD
BEGIN:DAYLIGHT
TZOFFSETFROM:-0500
TZOFFSETTO:-0400
TZNAME:EDT
DTSTART:20260308T070000
END:DAYLIGHT
BEGIN:STANDARD
TZOFFSETFROM:-0400
TZOFFSETTO:-0500
TZNAME:EST
DTSTART:20261101T060000
END:STANDARD
BEGIN:DAYLIGHT
TZOFFSETFROM:-0500
TZOFFSETTO:-0400
TZNAME:EDT
DTSTART:20270314T070000
END:DAYLIGHT
BEGIN:STANDARD
TZOFFSETFROM:-0400
TZOFFSETTO:-0500
TZNAME:EST
DTSTART:20271107T060000
END:STANDARD
END:VTIMEZONE
BEGIN:VEVENT
DTSTART;TZID=America/New_York:20260421T120000
DTEND;TZID=America/New_York:20260421T140000
DTSTAMP:20260425T145025
CREATED:20260413T150452Z
LAST-MODIFIED:20260413T150452Z
UID:10000834-1776772800-1776780000@www.nhti.edu
SUMMARY:Student Senate BBQ & Club Fair
DESCRIPTION:Join us in the gym for burgers\, hot dogs\, and more! Our student clubs and organizations will have tables for you to visit learn more about getting involved on campus.
URL:https://www.nhti.edu/event/student-senate-bbq-club-fair/
LOCATION:Goldie Crocker Wellness Center Gymnasium\, 31 College Drive\, Concord\, NH\, 03301\, United States
CATEGORIES:Student Events
END:VEVENT
BEGIN:VEVENT
DTSTART;TZID=America/New_York:20251204T110000
DTEND;TZID=America/New_York:20251204T140000
DTSTAMP:20260425T145025
CREATED:20251126T173713Z
LAST-MODIFIED:20251126T173755Z
UID:10000581-1764846000-1764856800@www.nhti.edu
SUMMARY:Make your own stuffed animal
DESCRIPTION:Join us in the student center from 11-2pm (or until we run out!).
URL:https://www.nhti.edu/event/make-your-own-stuffed-animal/
LOCATION:NHTI Student Center\, 31 College Drive\, Concord\, NH\, 03301\, United States
CATEGORIES:Student Events
END:VEVENT
BEGIN:VEVENT
DTSTART;TZID=America/New_York:20251016T110000
DTEND;TZID=America/New_York:20251016T130000
DTSTAMP:20260425T145025
CREATED:20251006T131139Z
LAST-MODIFIED:20251007T174437Z
UID:10000526-1760612400-1760619600@www.nhti.edu
SUMMARY:Student Senate Fall Fair
DESCRIPTION:Join Student Senate for our Fall Fair! Enjoy pumpkin painting\, caramel apples\, hot chocolate\, and other fun seasonal activities. Stop by the Student Center on Thursday\, October 16 from 11am–1pm to celebrate fall with us!
URL:https://www.nhti.edu/event/student-senate-fall-fest/
LOCATION:NHTI Student Center\, 31 College Drive\, Concord\, NH\, 03301\, United States
CATEGORIES:Student Events
ATTACH;FMTTYPE=image/png:https://www.nhti.edu/wp-content/uploads/2025/10/fall-fest-cropped.png
END:VEVENT
BEGIN:VEVENT
DTSTART;TZID=America/New_York:20251015T140000
DTEND;TZID=America/New_York:20251015T150000
DTSTAMP:20260425T145025
CREATED:20251006T131945Z
LAST-MODIFIED:20251006T131945Z
UID:10000527-1760536800-1760540400@www.nhti.edu
SUMMARY:Hispanic Heritage Month Lunchtime Trivia
DESCRIPTION:Celebrate Hispanic Heritage Month with some friendly competition! Join us for Lunchtime Trivia on Tuesday\, October 15 from 2–3pm in the Student Center. Test your knowledge with a variety of questions about Hispanic heritage and culture—bring your friends and see who comes out on top!
URL:https://www.nhti.edu/event/hispanic-heritage-month-lunchtime-trivia/
LOCATION:NHTI Student Center\, 31 College Drive\, Concord\, NH\, 03301\, United States
CATEGORIES:Student Events
END:VEVENT
END:VCALENDAR