BEGIN:VCALENDAR
VERSION:2.0
PRODID:-//NHTI - ECPv6.15.20//NONSGML v1.0//EN
CALSCALE:GREGORIAN
METHOD:PUBLISH
X-ORIGINAL-URL:https://www.nhti.edu
X-WR-CALDESC:Events for NHTI
REFRESH-INTERVAL;VALUE=DURATION:PT1H
X-Robots-Tag:noindex
X-PUBLISHED-TTL:PT1H
BEGIN:VTIMEZONE
TZID:America/New_York
BEGIN:DAYLIGHT
TZOFFSETFROM:-0500
TZOFFSETTO:-0400
TZNAME:EDT
DTSTART:20250309T070000
END:DAYLIGHT
BEGIN:STANDARD
TZOFFSETFROM:-0400
TZOFFSETTO:-0500
TZNAME:EST
DTSTART:20251102T060000
END:STANDARD
BEGIN:DAYLIGHT
TZOFFSETFROM:-0500
TZOFFSETTO:-0400
TZNAME:EDT
DTSTART:20260308T070000
END:DAYLIGHT
BEGIN:STANDARD
TZOFFSETFROM:-0400
TZOFFSETTO:-0500
TZNAME:EST
DTSTART:20261101T060000
END:STANDARD
BEGIN:DAYLIGHT
TZOFFSETFROM:-0500
TZOFFSETTO:-0400
TZNAME:EDT
DTSTART:20270314T070000
END:DAYLIGHT
BEGIN:STANDARD
TZOFFSETFROM:-0400
TZOFFSETTO:-0500
TZNAME:EST
DTSTART:20271107T060000
END:STANDARD
END:VTIMEZONE
BEGIN:VEVENT
DTSTART;TZID=America/New_York:20260427T090000
DTEND;TZID=America/New_York:20260427T150000
DTSTAMP:20260424T112735
CREATED:20260406T151914Z
LAST-MODIFIED:20260417T213431Z
UID:10000831-1777280400-1777302000@www.nhti.edu
SUMMARY:Registration Rally
DESCRIPTION:Keep the momentum going! Stop by our Registration Rally in the Learning Commons Library to meet with advisors\, explore course options\, and secure your summer schedule. Stay on track and make your next semester a success!
URL:https://www.nhti.edu/event/registration-rally-4/
LOCATION:Academic Center for Excellence (ACE)\, 31 College Drive\, Concord\, NH\, 03301\, United States
CATEGORIES:Admissions Events,Student Events
ATTACH;FMTTYPE=image/png:https://www.nhti.edu/wp-content/uploads/2026/04/reg-rally-draft-.png
ORGANIZER;CN="Academic Center for Excellence (ACE)":MAILTO:nhtiace@ccsnh.edu
END:VEVENT
BEGIN:VEVENT
DTSTART;TZID=America/New_York:20260427T120000
DTEND;TZID=America/New_York:20260427T130000
DTSTAMP:20260424T112735
CREATED:20260211T203133Z
LAST-MODIFIED:20260227T143027Z
UID:10000655-1777291200-1777294800@www.nhti.edu
SUMMARY:Meet Us Monday
DESCRIPTION:Have questions about NHTI? Joins us on Zoom for Meet Us Mondays! \nConnect with an Admissions counselor\, get answers to your questions\, and learn more about NHTI-Concord’s Community College. Whether you’re exploring programs\, wondering about the application process\, or just curious about campus life\, we’re here to help. RSVP for an upcoming Meet Us Monday\, and we’ll send you the link to join the session. Questions? Contact Amy Warner at awarner@ccsnh.edu.
URL:https://www.nhti.edu/event/meet-us-monday-3/2026-04-27/
LOCATION:Online\, NH\, United States
CATEGORIES:Admissions Events
ATTACH;FMTTYPE=image/png:https://www.nhti.edu/wp-content/uploads/2025/09/Meet-Us-Monday.png
END:VEVENT
BEGIN:VEVENT
DTSTART;TZID=America/New_York:20260427T121500
DTEND;TZID=America/New_York:20260427T122500
DTSTAMP:20260424T112735
CREATED:20260323T182715Z
LAST-MODIFIED:20260323T182715Z
UID:10000821-1777292100-1777292700@www.nhti.edu
SUMMARY:20-minute Strength Class
DESCRIPTION:Meet in the weight room for a quick lunchtime workout!
URL:https://www.nhti.edu/event/20-minute-strength-class/2026-04-27/
LOCATION:Goldie Crocker Wellness Center Gymnasium\, 31 College Drive\, Concord\, NH\, 03301\, United States
CATEGORIES:Athletics Events,Student Events
ORGANIZER;CN="NHTI Athletics":MAILTO:nhtiathletics@ccsnh.edu
END:VEVENT
BEGIN:VEVENT
DTSTART;TZID=America/New_York:20260428T100000
DTEND;TZID=America/New_York:20260428T140000
DTSTAMP:20260424T112735
CREATED:20260331T141733Z
LAST-MODIFIED:20260331T141733Z
UID:10000829-1777370400-1777384800@www.nhti.edu
SUMMARY:Stress Relievers Week: Free Chair Massages
DESCRIPTION:Free chair massages on Tuesday\, April 28th and Wednesday\, April 29th from 10am-2pm in the Student Center. Please complete our sign up link.
URL:https://www.nhti.edu/event/stress-relievers-week-free-chair-massages/2026-04-28/
LOCATION:NHTI Student Center\, 31 College Drive\, Concord\, NH\, 03301\, United States
CATEGORIES:Student Events
ORGANIZER;CN="Student Life":MAILTO:nhtistudentlife@ccsnh.edu
END:VEVENT
BEGIN:VEVENT
DTSTART;TZID=America/New_York:20260428T120000
DTEND;TZID=America/New_York:20260428T130000
DTSTAMP:20260424T112735
CREATED:20260424T133403Z
LAST-MODIFIED:20260424T133403Z
UID:10000840-1777377600-1777381200@www.nhti.edu
SUMMARY:Free Resume Workshop
DESCRIPTION:Join the Capital Area Public Health Network and NH Young Adult Advisory Council for a FREE resume workshop hosted by NHTI! Participants will learn how to craft an effective resume and have an opportunity to work on their own resumes. Lunch will be provided! \nSchedule:\nResume 101 and Lunch (20 minutes)\nCrafting a Resume Workshop (20 minutes)\nQ&A (20 minutes
URL:https://www.nhti.edu/event/free-resume-workshop-2/
LOCATION:Sweeney Hall\, 31 College Drive\, Concord\, NH\, 03301\, United States
CATEGORIES:Student Events
ORGANIZER;CN="Student Life":MAILTO:nhtistudentlife@ccsnh.edu
END:VEVENT
BEGIN:VEVENT
DTSTART;TZID=America/New_York:20260428T160000
DTEND;TZID=America/New_York:20260428T170000
DTSTAMP:20260424T112735
CREATED:20260219T201115Z
LAST-MODIFIED:20260323T182320Z
UID:10000678-1777392000-1777395600@www.nhti.edu
SUMMARY:Restorative Yoga
DESCRIPTION:Slow down and restore with Sandy Jacques and her Restorative Yoga\, a calming class focused on rest\, recovery\, and reconnecting with your body. With an emphasis on breathwork\, gentle movement\, and deep relaxation\, this class is designed to leave you feeling grounded and renewed. Sandy brings a rich collection of certifications spanning yoga\, breathwork\, and holistic wellness. Her thoughtful teaching style makes this class accessible and supportive for all levels\, whether you’re brand new to yoga or a longtime practitioner. \nTuesdays at 4:00 PM – Open to students\, faculty\, and staff\nFridays at 12:15 PM – Faculty and staff only \nThis class takes place within the Restorative Room in ACE\, which is inside the Learning Commons Library.
URL:https://www.nhti.edu/event/restorative-yoga/2026-04-28/
LOCATION:Academic Center for Excellence (ACE)\, 31 College Drive\, Concord\, NH\, 03301\, United States
CATEGORIES:Athletics Events,Student Events
ORGANIZER;CN="Athletics":MAILTO:nhtiathletics@ccsnh.edu
END:VEVENT
BEGIN:VEVENT
DTSTART;TZID=America/New_York:20260429T100000
DTEND;TZID=America/New_York:20260429T140000
DTSTAMP:20260424T112735
CREATED:20260331T141733Z
LAST-MODIFIED:20260331T141733Z
UID:10000830-1777456800-1777471200@www.nhti.edu
SUMMARY:Stress Relievers Week: Free Chair Massages
DESCRIPTION:Free chair massages on Tuesday\, April 28th and Wednesday\, April 29th from 10am-2pm in the Student Center. Please complete our sign up link.
URL:https://www.nhti.edu/event/stress-relievers-week-free-chair-massages/2026-04-29/
LOCATION:NHTI Student Center\, 31 College Drive\, Concord\, NH\, 03301\, United States
CATEGORIES:Student Events
ORGANIZER;CN="Student Life":MAILTO:nhtistudentlife@ccsnh.edu
END:VEVENT
BEGIN:VEVENT
DTSTART;TZID=America/New_York:20260429T100000
DTEND;TZID=America/New_York:20260429T140000
DTSTAMP:20260424T112735
CREATED:20260406T152132Z
LAST-MODIFIED:20260406T152132Z
UID:10000832-1777456800-1777471200@www.nhti.edu
SUMMARY:Therapy Dogs
DESCRIPTION:Join us for one of our favorite events of the semester as we welcome volunteer therapy dog teams from Caring Animal Partners and Therapy Dog International. Stop into the Student Center Rotunda and spend a few minutes petting a dog to help relieve stress and burnout from finals!
URL:https://www.nhti.edu/event/therapy-dogs-2/
LOCATION:NHTI Student Center\, 31 College Drive\, Concord\, NH\, 03301\, United States
CATEGORIES:Student Events
ORGANIZER;CN="Student Life":MAILTO:nhtistudentlife@ccsnh.edu
END:VEVENT
BEGIN:VEVENT
DTSTART;TZID=America/New_York:20260429T121500
DTEND;TZID=America/New_York:20260429T130000
DTSTAMP:20260424T112735
CREATED:20260219T201042Z
LAST-MODIFIED:20260219T201042Z
UID:10000668-1777464900-1777467600@www.nhti.edu
SUMMARY:Cardio & Core (Pilates and More!)
DESCRIPTION:Shake up your midweek routine with this dynamic\, feel-good movement class led by the incredible Liz Durant. Designed to help you move\, sweat a little\, and release stress\, this class blends cardio\, core Pilates\, stretching\, and strengthening into one energizing experience. Perfect for a lunchtime reset\, the goal is simple: get your body moving\, clear your mind\, and walk away feeling stronger and refreshed. Liz brings a wealth of experience\, including a strong NHTI connection and an impressive background in wellness\, movement\, and training certifications. Her knowledge\, encouragement\, and passion make this class welcoming\, effective\, and fun for all levels.
URL:https://www.nhti.edu/event/cardio-core-pilates-and-more/2026-04-29/
LOCATION:Multi-Purpose Room (Goldie Crocker Wellness Center)\, 1 Institute Drive\, Concord\, NH\, 03301\, United States
CATEGORIES:Athletics Events,Student Events
ORGANIZER;CN="Student Life":MAILTO:nhtistudentlife@ccsnh.edu
END:VEVENT
BEGIN:VEVENT
DTSTART;TZID=America/New_York:20260430T100000
DTEND;TZID=America/New_York:20260430T150000
DTSTAMP:20260424T112735
CREATED:20260424T131342Z
LAST-MODIFIED:20260424T131342Z
UID:10000839-1777543200-1777561200@www.nhti.edu
SUMMARY:Stress Relievers Week: Grounding Stations
DESCRIPTION:These Grounding Stations are presented by the Lynx Care Center on Thursday\, April 30 from 10 a.m. to 3 p.m. \n  \nEssential Oil Spray Station \nMake your own grounding spray to promote regulation by activating your senses. This can be beneficial during heightened moments of anxiety. \n  \nPainting & Creative Expression Table \nTake some time throughout the day on Tuesday to rest and find a healthy escape with painting. This promotes mindfulness\, a regulated state\, and is a great distraction for the busy mind. \n  \nMessages of Resilience & Support \nTake a moment to recognize yourself and/or your fellow peers by writing out a message that recognizes your resilience\, hope\, feeling of accomplishment\, etc. \n  \nBrain Hack Table! \nThis table will offer vital tools such as sour candy\, stress balls\, and grounding exercises to get you through the week with a bit more ease!
URL:https://www.nhti.edu/event/stress-relievers-week-grounding-stations/
LOCATION:NHTI Student Center\, 31 College Drive\, Concord\, NH\, 03301\, United States
CATEGORIES:Student Events
END:VEVENT
BEGIN:VEVENT
DTSTART;TZID=America/New_York:20260430T110000
DTEND;TZID=America/New_York:20260430T140000
DTSTAMP:20260424T112735
CREATED:20260422T142500Z
LAST-MODIFIED:20260422T142500Z
UID:10000838-1777546800-1777557600@www.nhti.edu
SUMMARY:Stress Relief Week: Sandy Candy from Residence Life
DESCRIPTION:During Stress Relief Week\, Residence Life will have a table for students to come and make their own flavored sugar bottles to destress and have a little treat to take during finals.
URL:https://www.nhti.edu/event/stress-relief-week-sandy-candy-from-residence-life/
LOCATION:Sweeney Hall\, 31 College Drive\, Concord\, NH\, 03301\, United States
CATEGORIES:Student Events
ORGANIZER;CN="Residence Life":MAILTO:NHTIresidencelife@ccsnh.edu
END:VEVENT
BEGIN:VEVENT
DTSTART;TZID=America/New_York:20260430T121500
DTEND;TZID=America/New_York:20260430T122500
DTSTAMP:20260424T112735
CREATED:20260323T182715Z
LAST-MODIFIED:20260323T182715Z
UID:10000822-1777551300-1777551900@www.nhti.edu
SUMMARY:20-minute Strength Class
DESCRIPTION:Meet in the weight room for a quick lunchtime workout!
URL:https://www.nhti.edu/event/20-minute-strength-class/2026-04-30/
LOCATION:Goldie Crocker Wellness Center Gymnasium\, 31 College Drive\, Concord\, NH\, 03301\, United States
CATEGORIES:Athletics Events,Student Events
ORGANIZER;CN="NHTI Athletics":MAILTO:nhtiathletics@ccsnh.edu
END:VEVENT
BEGIN:VEVENT
DTSTART;TZID=America/New_York:20260430T163000
DTEND;TZID=America/New_York:20260430T183000
DTSTAMP:20260424T112735
CREATED:20260317T182312Z
LAST-MODIFIED:20260423T134322Z
UID:10000811-1777566600-1777573800@www.nhti.edu
SUMMARY:Student Awards Day
DESCRIPTION:Please join us in our celebration of NHTI students! Light refreshments will be served. \nSchedule of events: \n\nStudent Awards Ceremony: 4:30-5:30 p.m. in the Sweeney Hall Auditorium\nCapstone/Class Project Poster Exhibition: 5:30-7 p.m. in the Student Center Rotunda
URL:https://www.nhti.edu/event/student-awards-day/
LOCATION:NHTI Sweeney Auditorium\, 31 College Drive\, Concord\, NH\, 03301\, United States
CATEGORIES:Community Events,Student Events
ORGANIZER;CN="Student Life":MAILTO:nhtistudentlife@ccsnh.edu
END:VEVENT
BEGIN:VEVENT
DTSTART;TZID=America/New_York:20260430T190000
DTEND;TZID=America/New_York:20260430T203000
DTSTAMP:20260424T112735
CREATED:20260219T195855Z
LAST-MODIFIED:20260219T195857Z
UID:10000633-1777575600-1777581000@www.nhti.edu
SUMMARY:NHTI Futsal Open Gym Sessions
DESCRIPTION:⚽🎉 NEW SPRING INITIATIVE: NHTI FUTSAL OPEN GYM! 🎉⚽ \nLooking for a fun way to stay active this spring? We’ve got you covered!Join us for NHTI FUTSAL Open Gym sessions all semester long at the Goldie Crocker Wellness Center Gymnasium. \n🗓 Every Thursday⏰ 7:00–8:30 PM📍 Goldie Crocker Wellness Center Gym💲 FREE👥 Open to ALL NHTI students\, staff\, and faculty \n📅 Starts Tuesday\, January 27📅 Runs through Thursday\, May 7 \n❌ No sessions on: \n\n\n2/5 \n\n\n2/12 \n\n\n3/19 \n\n\n3/31 \n\n\nWhether you’re a seasoned player or just want to kick the ball around\, all are welcome! Bring a friend\, get some movement and exercise in\, score some goals\, and enjoy a fast-paced\, fun futsal environment. \n⚽🙌 Come play\, move\, and have fun — we’ll see you on the court! 🙌⚽
URL:https://www.nhti.edu/event/nhti-futsal-open-gym-sessions-2/2026-04-30/
LOCATION:Goldie Crocker Wellness Center Gymnasium\, 31 College Drive\, Concord\, NH\, 03301\, United States
CATEGORIES:Athletics Events
ATTACH;FMTTYPE=image/jpeg:https://www.nhti.edu/wp-content/uploads/2026/01/Spring-Futsal.jpg
ORGANIZER;CN="NHTI Athletics":MAILTO:nhtiathletics@ccsnh.edu
END:VEVENT
BEGIN:VEVENT
DTSTART;TZID=America/New_York:20260501T121500
DTEND;TZID=America/New_York:20260501T130000
DTSTAMP:20260424T112735
CREATED:20260219T201205Z
LAST-MODIFIED:20260219T201205Z
UID:10000741-1777637700-1777640400@www.nhti.edu
SUMMARY:Restorative Yoga
DESCRIPTION:Slow down and restore with Sandy Jacques and her Restorative Yoga\, a calming class focused on rest\, recovery\, and reconnecting with your body. With an emphasis on breathwork\, gentle movement\, and deep relaxation\, this class is designed to leave you feeling grounded and renewed. Sandy brings a rich collection of certifications spanning yoga\, breathwork\, and holistic wellness. Her thoughtful teaching style makes this class accessible and supportive for all levels\, whether you’re brand new to yoga or a longtime practitioner. \nTuesdays at 4:00 PM – Open to students\, faculty\, and staff\nFridays at 12:15 PM – Faculty and staff only
URL:https://www.nhti.edu/event/restorative-yoga-2/2026-05-01/
LOCATION:Multi-Purpose Room (Goldie Crocker Wellness Center)\, 1 Institute Drive\, Concord\, NH\, 03301\, United States
CATEGORIES:Athletics Events,Student Events
ORGANIZER;CN="Athletics":MAILTO:nhtiathletics@ccsnh.edu
END:VEVENT
BEGIN:VEVENT
DTSTART;TZID=America/New_York:20260501T170000
DTEND;TZID=America/New_York:20260501T190000
DTSTAMP:20260424T112735
CREATED:20260413T172633Z
LAST-MODIFIED:20260413T172633Z
UID:10000835-1777654800-1777662000@www.nhti.edu
SUMMARY:Visual Arts Capstone Exhibit Opening Reception
DESCRIPTION:NHTI’s visual art seniors will showcase their capstone work during Intown Concord’s First Friday! Join us for the opening reception on May 1 from 5–7 p.m. at Go Native Gallery\, where the exhibit will be on view through May 3. The exhibition will then move to the NHTI Library for display throughout the summer.
URL:https://www.nhti.edu/event/visual-arts-capstone-exhibit-opening-reception/
LOCATION:NH
CATEGORIES:Community Events,Student Events
ORGANIZER;CN="NHTI":MAILTO:NHTIinfo@ccsnh.edu
END:VEVENT
END:VCALENDAR