BEGIN:VCALENDAR
VERSION:2.0
PRODID:-//NHTI - ECPv6.15.20//NONSGML v1.0//EN
CALSCALE:GREGORIAN
METHOD:PUBLISH
X-ORIGINAL-URL:https://www.nhti.edu
X-WR-CALDESC:Events for NHTI
REFRESH-INTERVAL;VALUE=DURATION:PT1H
X-Robots-Tag:noindex
X-PUBLISHED-TTL:PT1H
BEGIN:VTIMEZONE
TZID:America/New_York
BEGIN:DAYLIGHT
TZOFFSETFROM:-0500
TZOFFSETTO:-0400
TZNAME:EDT
DTSTART:20250309T070000
END:DAYLIGHT
BEGIN:STANDARD
TZOFFSETFROM:-0400
TZOFFSETTO:-0500
TZNAME:EST
DTSTART:20251102T060000
END:STANDARD
BEGIN:DAYLIGHT
TZOFFSETFROM:-0500
TZOFFSETTO:-0400
TZNAME:EDT
DTSTART:20260308T070000
END:DAYLIGHT
BEGIN:STANDARD
TZOFFSETFROM:-0400
TZOFFSETTO:-0500
TZNAME:EST
DTSTART:20261101T060000
END:STANDARD
BEGIN:DAYLIGHT
TZOFFSETFROM:-0500
TZOFFSETTO:-0400
TZNAME:EDT
DTSTART:20270314T070000
END:DAYLIGHT
BEGIN:STANDARD
TZOFFSETFROM:-0400
TZOFFSETTO:-0500
TZNAME:EST
DTSTART:20271107T060000
END:STANDARD
END:VTIMEZONE
BEGIN:VEVENT
DTSTART;TZID=America/New_York:20260413T121500
DTEND;TZID=America/New_York:20260413T122500
DTSTAMP:20260423T091554
CREATED:20260323T182715Z
LAST-MODIFIED:20260323T182715Z
UID:10000817-1776082500-1776083100@www.nhti.edu
SUMMARY:20-minute Strength Class
DESCRIPTION:Meet in the weight room for a quick lunchtime workout!
URL:https://www.nhti.edu/event/20-minute-strength-class/2026-04-13/
LOCATION:Goldie Crocker Wellness Center Gymnasium\, 31 College Drive\, Concord\, NH\, 03301\, United States
CATEGORIES:Athletics Events,Student Events
ORGANIZER;CN="NHTI Athletics":MAILTO:nhtiathletics@ccsnh.edu
END:VEVENT
BEGIN:VEVENT
DTSTART;TZID=America/New_York:20260414T160000
DTEND;TZID=America/New_York:20260414T170000
DTSTAMP:20260423T091554
CREATED:20260219T201115Z
LAST-MODIFIED:20260323T182320Z
UID:10000676-1776182400-1776186000@www.nhti.edu
SUMMARY:Restorative Yoga
DESCRIPTION:Slow down and restore with Sandy Jacques and her Restorative Yoga\, a calming class focused on rest\, recovery\, and reconnecting with your body. With an emphasis on breathwork\, gentle movement\, and deep relaxation\, this class is designed to leave you feeling grounded and renewed. Sandy brings a rich collection of certifications spanning yoga\, breathwork\, and holistic wellness. Her thoughtful teaching style makes this class accessible and supportive for all levels\, whether you’re brand new to yoga or a longtime practitioner. \nTuesdays at 4:00 PM – Open to students\, faculty\, and staff\nFridays at 12:15 PM – Faculty and staff only \nThis class takes place within the Restorative Room in ACE\, which is inside the Learning Commons Library.
URL:https://www.nhti.edu/event/restorative-yoga/2026-04-14/
LOCATION:Academic Center for Excellence (ACE)\, 31 College Drive\, Concord\, NH\, 03301\, United States
CATEGORIES:Athletics Events,Student Events
ORGANIZER;CN="Athletics":MAILTO:nhtiathletics@ccsnh.edu
END:VEVENT
BEGIN:VEVENT
DTSTART;TZID=America/New_York:20260415T093000
DTEND;TZID=America/New_York:20260415T110000
DTSTAMP:20260423T091554
CREATED:20260317T132104Z
LAST-MODIFIED:20260317T132104Z
UID:10000810-1776245400-1776250800@www.nhti.edu
SUMMARY:StrongHER: Women and Girls in Sports Summit
DESCRIPTION:This event celebrates the power and impact of female athletes and focuses on empowering girls in sports by increasing participation in women’s athletics—from high school to college and beyond. \n\nSession 1: Wednesday\, April 15 at NHTI 9:30-11:30 a.m.\nSession 2: Thursday\, April 16 at Great Bay from 9:30-11:30 a.m.\n\nSign up by April 10. \nQuestions? Email amattarazzo@ccsnh.edu.
URL:https://www.nhti.edu/event/strongher-women-and-girls-in-sports-summit/
LOCATION:Goldie Crocker Wellness Center Gymnasium\, 31 College Drive\, Concord\, NH\, 03301\, United States
CATEGORIES:Athletics Events,Community Events,Student Events
ATTACH;FMTTYPE=image/png:https://www.nhti.edu/wp-content/uploads/2026/03/StrongHER-posters-editable.png
ORGANIZER;CN="Athletics":MAILTO:nhtiathletics@ccsnh.edu
END:VEVENT
BEGIN:VEVENT
DTSTART;TZID=America/New_York:20260415T121500
DTEND;TZID=America/New_York:20260415T130000
DTSTAMP:20260423T091554
CREATED:20260219T201042Z
LAST-MODIFIED:20260219T201042Z
UID:10000666-1776255300-1776258000@www.nhti.edu
SUMMARY:Cardio & Core (Pilates and More!)
DESCRIPTION:Shake up your midweek routine with this dynamic\, feel-good movement class led by the incredible Liz Durant. Designed to help you move\, sweat a little\, and release stress\, this class blends cardio\, core Pilates\, stretching\, and strengthening into one energizing experience. Perfect for a lunchtime reset\, the goal is simple: get your body moving\, clear your mind\, and walk away feeling stronger and refreshed. Liz brings a wealth of experience\, including a strong NHTI connection and an impressive background in wellness\, movement\, and training certifications. Her knowledge\, encouragement\, and passion make this class welcoming\, effective\, and fun for all levels.
URL:https://www.nhti.edu/event/cardio-core-pilates-and-more/2026-04-15/
LOCATION:Multi-Purpose Room (Goldie Crocker Wellness Center)\, 1 Institute Drive\, Concord\, NH\, 03301\, United States
CATEGORIES:Athletics Events,Student Events
ORGANIZER;CN="Student Life":MAILTO:nhtistudentlife@ccsnh.edu
END:VEVENT
BEGIN:VEVENT
DTSTART;TZID=America/New_York:20260415T190000
DTEND;TZID=America/New_York:20260415T210000
DTSTAMP:20260423T091554
CREATED:20260413T192209Z
LAST-MODIFIED:20260413T192209Z
UID:10000833-1776279600-1776286800@www.nhti.edu
SUMMARY:3-in-1 LEGO Building
DESCRIPTION:Come get a 3-in-1 LEGO Creator set and build it with the community\, while supplies last! (Since this is an RA Program\, NHTI Residents will be prioritized for supply)
URL:https://www.nhti.edu/event/3-in-1-lego-building/
LOCATION:Grappone Hall
CATEGORIES:Residence Life Events
ATTACH;FMTTYPE=image/png:https://www.nhti.edu/wp-content/uploads/2026/04/Screenshot-2026-04-08-114254.png
ORGANIZER;CN="Residence Life":MAILTO:NHTIresidencelife@ccsnh.edu
END:VEVENT
BEGIN:VEVENT
DTSTART;TZID=America/New_York:20260416T121500
DTEND;TZID=America/New_York:20260416T122500
DTSTAMP:20260423T091554
CREATED:20260323T182715Z
LAST-MODIFIED:20260323T182715Z
UID:10000818-1776341700-1776342300@www.nhti.edu
SUMMARY:20-minute Strength Class
DESCRIPTION:Meet in the weight room for a quick lunchtime workout!
URL:https://www.nhti.edu/event/20-minute-strength-class/2026-04-16/
LOCATION:Goldie Crocker Wellness Center Gymnasium\, 31 College Drive\, Concord\, NH\, 03301\, United States
CATEGORIES:Athletics Events,Student Events
ORGANIZER;CN="NHTI Athletics":MAILTO:nhtiathletics@ccsnh.edu
END:VEVENT
BEGIN:VEVENT
DTSTART;TZID=America/New_York:20260416T190000
DTEND;TZID=America/New_York:20260416T203000
DTSTAMP:20260423T091554
CREATED:20260219T195855Z
LAST-MODIFIED:20260219T195857Z
UID:10000629-1776366000-1776371400@www.nhti.edu
SUMMARY:NHTI Futsal Open Gym Sessions
DESCRIPTION:⚽🎉 NEW SPRING INITIATIVE: NHTI FUTSAL OPEN GYM! 🎉⚽ \nLooking for a fun way to stay active this spring? We’ve got you covered!Join us for NHTI FUTSAL Open Gym sessions all semester long at the Goldie Crocker Wellness Center Gymnasium. \n🗓 Every Thursday⏰ 7:00–8:30 PM📍 Goldie Crocker Wellness Center Gym💲 FREE👥 Open to ALL NHTI students\, staff\, and faculty \n📅 Starts Tuesday\, January 27📅 Runs through Thursday\, May 7 \n❌ No sessions on: \n\n\n2/5 \n\n\n2/12 \n\n\n3/19 \n\n\n3/31 \n\n\nWhether you’re a seasoned player or just want to kick the ball around\, all are welcome! Bring a friend\, get some movement and exercise in\, score some goals\, and enjoy a fast-paced\, fun futsal environment. \n⚽🙌 Come play\, move\, and have fun — we’ll see you on the court! 🙌⚽
URL:https://www.nhti.edu/event/nhti-futsal-open-gym-sessions-2/2026-04-16/
LOCATION:Goldie Crocker Wellness Center Gymnasium\, 31 College Drive\, Concord\, NH\, 03301\, United States
CATEGORIES:Athletics Events
ATTACH;FMTTYPE=image/jpeg:https://www.nhti.edu/wp-content/uploads/2026/01/Spring-Futsal.jpg
ORGANIZER;CN="NHTI Athletics":MAILTO:nhtiathletics@ccsnh.edu
END:VEVENT
BEGIN:VEVENT
DTSTART;TZID=America/New_York:20260417T121500
DTEND;TZID=America/New_York:20260417T130000
DTSTAMP:20260423T091554
CREATED:20260219T201205Z
LAST-MODIFIED:20260219T201205Z
UID:10000739-1776428100-1776430800@www.nhti.edu
SUMMARY:Restorative Yoga
DESCRIPTION:Slow down and restore with Sandy Jacques and her Restorative Yoga\, a calming class focused on rest\, recovery\, and reconnecting with your body. With an emphasis on breathwork\, gentle movement\, and deep relaxation\, this class is designed to leave you feeling grounded and renewed. Sandy brings a rich collection of certifications spanning yoga\, breathwork\, and holistic wellness. Her thoughtful teaching style makes this class accessible and supportive for all levels\, whether you’re brand new to yoga or a longtime practitioner. \nTuesdays at 4:00 PM – Open to students\, faculty\, and staff\nFridays at 12:15 PM – Faculty and staff only
URL:https://www.nhti.edu/event/restorative-yoga-2/2026-04-17/
LOCATION:Multi-Purpose Room (Goldie Crocker Wellness Center)\, 1 Institute Drive\, Concord\, NH\, 03301\, United States
CATEGORIES:Athletics Events,Student Events
ORGANIZER;CN="Athletics":MAILTO:nhtiathletics@ccsnh.edu
END:VEVENT
BEGIN:VEVENT
DTSTART;TZID=America/New_York:20260417T174500
DTEND;TZID=America/New_York:20260417T200000
DTSTAMP:20260423T091554
CREATED:20251121T135842Z
LAST-MODIFIED:20260402T155903Z
UID:10000570-1776447900-1776456000@www.nhti.edu
SUMMARY:22nd Annual NHTI / NEDD 5K Road Race
DESCRIPTION:🏃‍♂️ Get Ready\, Concord! Race #2 of the Capital Area Race Series is coming to NHTI! 🏃‍♀️ \nWe’re thrilled to host the NHTI/Delta Dental 5K Road Race on Friday\, April 17\, 2026—a community favorite and one of the most energetic nights on campus! Registration opens at 4:30pm\, our always-adorable Kids Fun Run takes off at 5:45pm\, and the main event kicks off at 6:00pm sharp. \nLast year we welcomed 300+ runners\, families\, fans\, and community partners for an evening full of excitement—and we’re ready to make this year even bigger. 🥳 Expect the return of Leroy the Lynx\, an awesome BBQ\, music\, donuts\, awards\, and the kind of loud and proud cheering section that makes CARS events so special. Whether you’re racing\, walking\, volunteering\, or just enjoying the vibe\, this is a celebration you won’t want to miss. \n\nStudents\, sign up for just $5. Register at the Athletics Department office.\nNHTI faculty and staff\, register for FREE as part of Battle of the Bridge. Link: https://www.signupgenius.com/go/10C0E4EAAA82CA0FCC25-60075857-nedd#/\nEveryone else\, preregistration is $25\, or $30 day of the race! Link: https://www.runreg.com/nhti-delta-dental-5k\nLearn more about the full Capital Area Race Series: https://www.runcarsnh.com/register\n\nLet’s pack the NHTI campus\, celebrate community\, and kick off spring with some serious fun. See you at the starting line! 🎉👟🌭
URL:https://www.nhti.edu/event/22nd-annual-nhti-nedd-5k-road-race/
LOCATION:NHTI Quad\, 31 College Drive\, Concord\, NH\, 03301\, United States
ATTACH;FMTTYPE=image/png:https://www.nhti.edu/wp-content/uploads/2025/11/Random-Posters.png
ORGANIZER;CN="Athletics":MAILTO:nhtiathletics@ccsnh.edu
END:VEVENT
END:VCALENDAR