BEGIN:VCALENDAR
VERSION:2.0
PRODID:-//NHTI - ECPv6.15.20//NONSGML v1.0//EN
CALSCALE:GREGORIAN
METHOD:PUBLISH
X-ORIGINAL-URL:https://www.nhti.edu
X-WR-CALDESC:Events for NHTI
REFRESH-INTERVAL;VALUE=DURATION:PT1H
X-Robots-Tag:noindex
X-PUBLISHED-TTL:PT1H
BEGIN:VTIMEZONE
TZID:America/New_York
BEGIN:DAYLIGHT
TZOFFSETFROM:-0500
TZOFFSETTO:-0400
TZNAME:EDT
DTSTART:20250309T070000
END:DAYLIGHT
BEGIN:STANDARD
TZOFFSETFROM:-0400
TZOFFSETTO:-0500
TZNAME:EST
DTSTART:20251102T060000
END:STANDARD
BEGIN:DAYLIGHT
TZOFFSETFROM:-0500
TZOFFSETTO:-0400
TZNAME:EDT
DTSTART:20260308T070000
END:DAYLIGHT
BEGIN:STANDARD
TZOFFSETFROM:-0400
TZOFFSETTO:-0500
TZNAME:EST
DTSTART:20261101T060000
END:STANDARD
BEGIN:DAYLIGHT
TZOFFSETFROM:-0500
TZOFFSETTO:-0400
TZNAME:EDT
DTSTART:20270314T070000
END:DAYLIGHT
BEGIN:STANDARD
TZOFFSETFROM:-0400
TZOFFSETTO:-0500
TZNAME:EST
DTSTART:20271107T060000
END:STANDARD
END:VTIMEZONE
BEGIN:VEVENT
DTSTART;TZID=America/New_York:20260114T084500
DTEND;TZID=America/New_York:20260114T140000
DTSTAMP:20260420T101508
CREATED:20250902T052609Z
LAST-MODIFIED:20250902T052609Z
UID:10000498-1768380300-1768399200@www.nhti.edu
SUMMARY:Orientation
DESCRIPTION:Have you been accepted to NHTI? Congratulations! We look forward to welcoming you to the NHTI community\, and Orientation is your next step in preparing for the start of the semester. Questions? Contact Student Affairs at 603-230-4040 or NHTIstudentaffairs@ccsnh.edu. Check-in starts at 8:45 a.m. in the Sweeney Auditorium with Orientation starting promptly at 9:30 a.m. Please sign up in advance via this link.
URL:https://www.nhti.edu/event/orientation/
LOCATION:NHTI Sweeney Auditorium\, 31 College Drive\, Concord\, NH\, 03301\, United States
CATEGORIES:Admissions Events,Student Events
ORGANIZER;CN="Student Life":MAILTO:nhtistudentlife@ccsnh.edu
END:VEVENT
BEGIN:VEVENT
DTSTART;TZID=America/New_York:20260114T090000
DTEND;TZID=America/New_York:20260114T150000
DTSTAMP:20260420T101508
CREATED:20260112T164352Z
LAST-MODIFIED:20260112T164352Z
UID:10000601-1768381200-1768402800@www.nhti.edu
SUMMARY:Walk-In Wednesday
DESCRIPTION:Join us for Walk-In Wednesdays at NHTI–it’s everything you need to enroll for the Spring 2026 semester–all in one day! During the event\, you can: \n\nSubmit an application for next semester.\nExplore financial aid options.\nReview program requirements with an admissions counselor.\nMeet with an academic advisor.\nRegister for classes.\n\nWe offer no application fee and on-the-spot admissions. Though most programs are open enrollment\, we recommend bringing a copy of your high school and/or college transcripts or GED/HiSET to review with your counselor. Walk-In Wednesdays does not apply to Allied Health Programs or International Student Admission. \nPre-registration for this event is encouraged\, but walk-ins are welcome! RSVP at https://ccsnh.my.salesforce-sites.com/events#/esr?eid=a12Up000002CbnRIAS. \nPlease contact us with any questions: 603 230-4011 or nhtiadmissions@ccsnh.edu.
URL:https://www.nhti.edu/event/walk-in-wednesday/
LOCATION:Sweeney Hall\, 31 College Drive\, Concord\, NH\, 03301\, United States
ATTACH;FMTTYPE=image/png:https://www.nhti.edu/wp-content/uploads/2026/01/WIW-Logo-Jan-14-2026.png
END:VEVENT
END:VCALENDAR