BEGIN:VCALENDAR
VERSION:2.0
PRODID:-//NHTI - ECPv6.15.20//NONSGML v1.0//EN
CALSCALE:GREGORIAN
METHOD:PUBLISH
X-ORIGINAL-URL:https://www.nhti.edu
X-WR-CALDESC:Events for NHTI
REFRESH-INTERVAL;VALUE=DURATION:PT1H
X-Robots-Tag:noindex
X-PUBLISHED-TTL:PT1H
BEGIN:VTIMEZONE
TZID:America/New_York
BEGIN:DAYLIGHT
TZOFFSETFROM:-0500
TZOFFSETTO:-0400
TZNAME:EDT
DTSTART:20250309T070000
END:DAYLIGHT
BEGIN:STANDARD
TZOFFSETFROM:-0400
TZOFFSETTO:-0500
TZNAME:EST
DTSTART:20251102T060000
END:STANDARD
BEGIN:DAYLIGHT
TZOFFSETFROM:-0500
TZOFFSETTO:-0400
TZNAME:EDT
DTSTART:20260308T070000
END:DAYLIGHT
BEGIN:STANDARD
TZOFFSETFROM:-0400
TZOFFSETTO:-0500
TZNAME:EST
DTSTART:20261101T060000
END:STANDARD
BEGIN:DAYLIGHT
TZOFFSETFROM:-0500
TZOFFSETTO:-0400
TZNAME:EDT
DTSTART:20270314T070000
END:DAYLIGHT
BEGIN:STANDARD
TZOFFSETFROM:-0400
TZOFFSETTO:-0500
TZNAME:EST
DTSTART:20271107T060000
END:STANDARD
END:VTIMEZONE
BEGIN:VEVENT
DTSTART;TZID=America/New_York:20260326T121500
DTEND;TZID=America/New_York:20260326T122500
DTSTAMP:20260422T112627
CREATED:20260323T182715Z
LAST-MODIFIED:20260323T182715Z
UID:10000812-1774527300-1774527900@www.nhti.edu
SUMMARY:20-minute Strength Class
DESCRIPTION:Meet in the weight room for a quick lunchtime workout!
URL:https://www.nhti.edu/event/20-minute-strength-class/2026-03-26/
LOCATION:Goldie Crocker Wellness Center Gymnasium\, 31 College Drive\, Concord\, NH\, 03301\, United States
CATEGORIES:Athletics Events,Student Events
ORGANIZER;CN="NHTI Athletics":MAILTO:nhtiathletics@ccsnh.edu
END:VEVENT
BEGIN:VEVENT
DTSTART;TZID=America/New_York:20260326T173000
DTEND;TZID=America/New_York:20260326T200000
DTSTAMP:20260422T112627
CREATED:20260227T142442Z
LAST-MODIFIED:20260227T142442Z
UID:10000796-1774546200-1774555200@www.nhti.edu
SUMMARY:Second Chance Prom
DESCRIPTION:Join us for a night of magic\, whimsy\, and dance. Wear your finest regalia (think fantasy\, D&D). Pizza\, fruit\, snacks\, and drinks will be provided. \nRSVP in advance for a goodie bag. Monetary donations for the lynx Pantry are welcome! \nThis event is presented by the NHTI Alliance Club.
URL:https://www.nhti.edu/event/second-chance-prom/
LOCATION:NHTI Student Center\, 31 College Drive\, Concord\, NH\, 03301\, United States
CATEGORIES:Student Events
ATTACH;FMTTYPE=image/jpeg:https://www.nhti.edu/wp-content/uploads/2026/02/NHTI-2nd-Chance-Prom-Flyer.jpg
ORGANIZER;CN="Student Life":MAILTO:nhtistudentlife@ccsnh.edu
END:VEVENT
END:VCALENDAR