BEGIN:VCALENDAR
VERSION:2.0
PRODID:-//NHTI - ECPv6.15.20//NONSGML v1.0//EN
CALSCALE:GREGORIAN
METHOD:PUBLISH
X-ORIGINAL-URL:https://www.nhti.edu
X-WR-CALDESC:Events for NHTI
REFRESH-INTERVAL;VALUE=DURATION:PT1H
X-Robots-Tag:noindex
X-PUBLISHED-TTL:PT1H
BEGIN:VTIMEZONE
TZID:America/New_York
BEGIN:DAYLIGHT
TZOFFSETFROM:-0500
TZOFFSETTO:-0400
TZNAME:EDT
DTSTART:20240310T070000
END:DAYLIGHT
BEGIN:STANDARD
TZOFFSETFROM:-0400
TZOFFSETTO:-0500
TZNAME:EST
DTSTART:20241103T060000
END:STANDARD
BEGIN:DAYLIGHT
TZOFFSETFROM:-0500
TZOFFSETTO:-0400
TZNAME:EDT
DTSTART:20250309T070000
END:DAYLIGHT
BEGIN:STANDARD
TZOFFSETFROM:-0400
TZOFFSETTO:-0500
TZNAME:EST
DTSTART:20251102T060000
END:STANDARD
BEGIN:DAYLIGHT
TZOFFSETFROM:-0500
TZOFFSETTO:-0400
TZNAME:EDT
DTSTART:20260308T070000
END:DAYLIGHT
BEGIN:STANDARD
TZOFFSETFROM:-0400
TZOFFSETTO:-0500
TZNAME:EST
DTSTART:20261101T060000
END:STANDARD
END:VTIMEZONE
BEGIN:VEVENT
DTSTART;VALUE=DATE:20251201
DTEND;VALUE=DATE:20251207
DTSTAMP:20260424T153213
CREATED:20251119T192719Z
LAST-MODIFIED:20251119T192719Z
UID:10000567-1764547200-1765065599@www.nhti.edu
SUMMARY:Visual Arts Capstone Exhibit
DESCRIPTION:The Capstone Exhibition showcases the culminating projects of Visual Arts students as they complete their final semester. Each student works under the mentorship of a Visual Arts professor to develop a cohesive body of work in their chosen medium. The process begins with writing an artist statement that defines their creative goals and direction. Over the course of the semester\, students meet regularly with their mentors for feedback and guidance\, while independently shaping their projects. The result is a professional exhibition that highlights each artist’s individual vision\, voice\, and growth. \nThe opening reception is Friday\, December 5 from 5-7 p.m. in the Bistro. \nThe exhibit will be on display in the Bistro December 1-6. \nThe exhibit will be on display in the Library December 12-31.
URL:https://www.nhti.edu/event/visual-arts-capstone-exhibit/
LOCATION:Bistro
CATEGORIES:Student Events
ATTACH;FMTTYPE=image/png:https://www.nhti.edu/wp-content/uploads/2025/11/WatchFire-Signs-1.png
ORGANIZER;CN="NHTI":MAILTO:NHTIinfo@ccsnh.edu
END:VEVENT
BEGIN:VEVENT
DTSTART;TZID=America/New_York:20251202T100000
DTEND;TZID=America/New_York:20251202T140000
DTSTAMP:20260424T153213
CREATED:20251126T164146Z
LAST-MODIFIED:20251126T172642Z
UID:10000575-1764669600-1764684000@www.nhti.edu
SUMMARY:Free Chair Massages
DESCRIPTION:Tuesday\, December 2nd and Wednesday\, December 3rd from 10am-2pm sign up for a free chair massage in the Student Center. \nSign up here: https://www.signupgenius.com/go/10C0F4CA5A62AA6F8C52-60752924-chair
URL:https://www.nhti.edu/event/free-chair-massages/2025-12-02/
LOCATION:NHTI Student Center\, 31 College Drive\, Concord\, NH\, 03301\, United States
CATEGORIES:Student Events
ORGANIZER;CN="Student Life":MAILTO:nhtistudentlife@ccsnh.edu
END:VEVENT
BEGIN:VEVENT
DTSTART;TZID=America/New_York:20251202T120000
DTEND;TZID=America/New_York:20251202T140000
DTSTAMP:20260424T153213
CREATED:20250930T184435Z
LAST-MODIFIED:20250930T184631Z
UID:10000519-1764676800-1764684000@www.nhti.edu
SUMMARY:5NP Ear Acupuncture
DESCRIPTION:Join us in the Restorative Room every other Tuesday for free ear acupuncture. Drop in between 12–2 PM to experience healing\, connection\, and conversation—no sign-up required. The Restorative Room is located within the library building. \nQuestions? Contact Cara LapPlante from Archways at 603-832-6124 or claplante@archwaysnh.org
URL:https://www.nhti.edu/event/5np-ear-acupuncture/2025-12-02/
LOCATION:Learning Commons Library Restorative Room\, 31 College Drive\, Concord\, NH\, 03301\, United States
CATEGORIES:Student Events
ATTACH;FMTTYPE=image/png:https://www.nhti.edu/wp-content/uploads/2025/09/ear-acupuncture.png
END:VEVENT
END:VCALENDAR