BEGIN:VCALENDAR
VERSION:2.0
PRODID:-//NHTI - ECPv6.15.20//NONSGML v1.0//EN
CALSCALE:GREGORIAN
METHOD:PUBLISH
X-WR-CALNAME:NHTI
X-ORIGINAL-URL:https://www.nhti.edu
X-WR-CALDESC:Events for NHTI
REFRESH-INTERVAL;VALUE=DURATION:PT1H
X-Robots-Tag:noindex
X-PUBLISHED-TTL:PT1H
BEGIN:VTIMEZONE
TZID:America/New_York
BEGIN:DAYLIGHT
TZOFFSETFROM:-0500
TZOFFSETTO:-0400
TZNAME:EDT
DTSTART:20240310T070000
END:DAYLIGHT
BEGIN:STANDARD
TZOFFSETFROM:-0400
TZOFFSETTO:-0500
TZNAME:EST
DTSTART:20241103T060000
END:STANDARD
BEGIN:DAYLIGHT
TZOFFSETFROM:-0500
TZOFFSETTO:-0400
TZNAME:EDT
DTSTART:20250309T070000
END:DAYLIGHT
BEGIN:STANDARD
TZOFFSETFROM:-0400
TZOFFSETTO:-0500
TZNAME:EST
DTSTART:20251102T060000
END:STANDARD
BEGIN:DAYLIGHT
TZOFFSETFROM:-0500
TZOFFSETTO:-0400
TZNAME:EDT
DTSTART:20260308T070000
END:DAYLIGHT
BEGIN:STANDARD
TZOFFSETFROM:-0400
TZOFFSETTO:-0500
TZNAME:EST
DTSTART:20261101T060000
END:STANDARD
END:VTIMEZONE
BEGIN:VEVENT
DTSTART;TZID=America/New_York:20250919T180000
DTEND;TZID=America/New_York:20250919T203000
DTSTAMP:20260425T115539
CREATED:20250902T051816Z
LAST-MODIFIED:20250902T051816Z
UID:10000494-1758304800-1758313800@www.nhti.edu
SUMMARY:NHTI Athletics Hall of Fame
DESCRIPTION:The Athletic Hall of Fame at NHTI – Concord’s Community College was established in 2019 to honor and celebrate the outstanding achievements of student-athletes\, coaches\, and contributors who have made significant impacts on the college’s athletic programs.\nSince its founding\, the Hall of Fame serves as a testament to the rich athletic tradition at NHTI\, recognizing individuals who have demonstrated excellence in competition\, leadership\, sportsmanship\, and dedication to their respective sports. The Hall of Fame celebrates not only athletic achievement but also the character and commitment that exemplify the values of NHTI athletics.  Inductees represent the finest in Lynx athletics\, showcasing the talent\, determination\, and spirit that have defined NHTI’s athletic programs over the years. Through their accomplishments both on and off the field\, these honorees have helped establish NHTI as a respected institution in community college athletics.\nThe Athletic Hall of Fame stands as an inspiration to current and future student-athletes\, demonstrating the lasting impact that dedication\, hard work\, and Lynx pride can have on both individual lives and the broader college community. As NHTI continues to build upon its athletic legacy\, the Hall of Fame will continue to grow\, honoring those who have contributed to the proud tradition of Lynx athletics.
URL:https://www.nhti.edu/event/nhti-athletics-hall-of-fame/
LOCATION:NHTI Sweeney Auditorium\, 31 College Drive\, Concord\, NH\, 03301\, United States
CATEGORIES:Student Events
ORGANIZER;CN="Athletics":MAILTO:nhtiathletics@ccsnh.edu
END:VEVENT
END:VCALENDAR