BEGIN:VCALENDAR
VERSION:2.0
PRODID:-//NHTI - ECPv6.15.20//NONSGML v1.0//EN
CALSCALE:GREGORIAN
METHOD:PUBLISH
X-ORIGINAL-URL:https://www.nhti.edu
X-WR-CALDESC:Events for NHTI
REFRESH-INTERVAL;VALUE=DURATION:PT1H
X-Robots-Tag:noindex
X-PUBLISHED-TTL:PT1H
BEGIN:VTIMEZONE
TZID:America/New_York
BEGIN:DAYLIGHT
TZOFFSETFROM:-0500
TZOFFSETTO:-0400
TZNAME:EDT
DTSTART:20250309T070000
END:DAYLIGHT
BEGIN:STANDARD
TZOFFSETFROM:-0400
TZOFFSETTO:-0500
TZNAME:EST
DTSTART:20251102T060000
END:STANDARD
BEGIN:DAYLIGHT
TZOFFSETFROM:-0500
TZOFFSETTO:-0400
TZNAME:EDT
DTSTART:20260308T070000
END:DAYLIGHT
BEGIN:STANDARD
TZOFFSETFROM:-0400
TZOFFSETTO:-0500
TZNAME:EST
DTSTART:20261101T060000
END:STANDARD
BEGIN:DAYLIGHT
TZOFFSETFROM:-0500
TZOFFSETTO:-0400
TZNAME:EDT
DTSTART:20270314T070000
END:DAYLIGHT
BEGIN:STANDARD
TZOFFSETFROM:-0400
TZOFFSETTO:-0500
TZNAME:EST
DTSTART:20271107T060000
END:STANDARD
END:VTIMEZONE
BEGIN:VEVENT
DTSTART;TZID=America/New_York:20260430T163000
DTEND;TZID=America/New_York:20260430T183000
DTSTAMP:20260422T174113
CREATED:20260317T182312Z
LAST-MODIFIED:20260317T182328Z
UID:10000811-1777566600-1777573800@www.nhti.edu
SUMMARY:Student Awards Day
DESCRIPTION:Please join us in our celebration of NHTI students! Light refreshments will be served. \nSchedule of events: \n\nStudent Awards Ceremony: 4:00-5:30 p.m. in the Sweeney Hall Auditorium\nCapstone/Class Project Poster Exhibition: 5:30-7 p.m. in the Student Center Rotunda
URL:https://www.nhti.edu/event/student-awards-day/
LOCATION:NHTI Sweeney Auditorium\, 31 College Drive\, Concord\, NH\, 03301\, United States
CATEGORIES:Community Events,Student Events
ORGANIZER;CN="Student Life":MAILTO:nhtistudentlife@ccsnh.edu
END:VEVENT
BEGIN:VEVENT
DTSTART;TZID=America/New_York:20260501T170000
DTEND;TZID=America/New_York:20260501T190000
DTSTAMP:20260422T174113
CREATED:20260413T172633Z
LAST-MODIFIED:20260413T172633Z
UID:10000835-1777654800-1777662000@www.nhti.edu
SUMMARY:Visual Arts Capstone Exhibit Opening Reception
DESCRIPTION:NHTI’s visual art seniors will showcase their capstone work during Intown Concord’s First Friday! Join us for the opening reception on May 1 from 5–7 p.m. at Go Native Gallery\, where the exhibit will be on view through May 3. The exhibition will then move to the NHTI Library for display throughout the summer.
URL:https://www.nhti.edu/event/visual-arts-capstone-exhibit-opening-reception/
CATEGORIES:Community Events,Student Events
ORGANIZER;CN="NHTI":MAILTO:NHTIinfo@ccsnh.edu
END:VEVENT
BEGIN:VEVENT
DTSTART;VALUE=DATE:20260605
DTEND;VALUE=DATE:20260606
DTSTAMP:20260422T174113
CREATED:20260302T205429Z
LAST-MODIFIED:20260302T205429Z
UID:10000803-1780617600-1780703999@www.nhti.edu
SUMMARY:NHTI Wellness Golf Tournament
DESCRIPTION:We are happy to host our annual golf tournament! Join us on June 5th at Beaver Meadow Golf Course for a day of community\, fun\, and golf!
URL:https://www.nhti.edu/event/nhti-wellness-golf-tournament/
CATEGORIES:Athletics Events,Community Events
ATTACH;FMTTYPE=image/jpeg:https://www.nhti.edu/wp-content/uploads/2026/03/Golf-scaled.jpg
ORGANIZER;CN="NHTI Athletics":MAILTO:nhtiathletics@ccsnh.edu
END:VEVENT
END:VCALENDAR