BEGIN:VCALENDAR
VERSION:2.0
PRODID:-//NHTI - ECPv6.15.20//NONSGML v1.0//EN
CALSCALE:GREGORIAN
METHOD:PUBLISH
X-WR-CALNAME:NHTI
X-ORIGINAL-URL:https://www.nhti.edu
X-WR-CALDESC:Events for NHTI
REFRESH-INTERVAL;VALUE=DURATION:PT1H
X-Robots-Tag:noindex
X-PUBLISHED-TTL:PT1H
BEGIN:VTIMEZONE
TZID:America/New_York
BEGIN:DAYLIGHT
TZOFFSETFROM:-0500
TZOFFSETTO:-0400
TZNAME:EDT
DTSTART:20250309T070000
END:DAYLIGHT
BEGIN:STANDARD
TZOFFSETFROM:-0400
TZOFFSETTO:-0500
TZNAME:EST
DTSTART:20251102T060000
END:STANDARD
BEGIN:DAYLIGHT
TZOFFSETFROM:-0500
TZOFFSETTO:-0400
TZNAME:EDT
DTSTART:20260308T070000
END:DAYLIGHT
BEGIN:STANDARD
TZOFFSETFROM:-0400
TZOFFSETTO:-0500
TZNAME:EST
DTSTART:20261101T060000
END:STANDARD
BEGIN:DAYLIGHT
TZOFFSETFROM:-0500
TZOFFSETTO:-0400
TZNAME:EDT
DTSTART:20270314T070000
END:DAYLIGHT
BEGIN:STANDARD
TZOFFSETFROM:-0400
TZOFFSETTO:-0500
TZNAME:EST
DTSTART:20271107T060000
END:STANDARD
END:VTIMEZONE
BEGIN:VEVENT
DTSTART;TZID=America/New_York:20260407T120000
DTEND;TZID=America/New_York:20260407T140000
DTSTAMP:20260425T082430
CREATED:20260313T154324Z
LAST-MODIFIED:20260406T152237Z
UID:10000809-1775563200-1775570400@www.nhti.edu
SUMMARY:Multicultural Fair
DESCRIPTION:This event will highlight NHTI’s multicultural student\, staff\, & faculty population. Cultural food\, games\, performances\, music\, art\, and a fashion show will be at this event. This event is presented by the Cultural Exchange Club. \nSign up here if you would like to be a part of the event.
URL:https://www.nhti.edu/event/multicultural-fair/
LOCATION:Goldie Crocker Wellness Center Gymnasium\, 31 College Drive\, Concord\, NH\, 03301\, United States
CATEGORIES:Community Events,Student Events
ATTACH;FMTTYPE=image/png:https://www.nhti.edu/wp-content/uploads/2026/03/The-Multicultural-Fair-event-poster.png
ORGANIZER;CN="Student Life":MAILTO:nhtistudentlife@ccsnh.edu
END:VEVENT
BEGIN:VEVENT
DTSTART;TZID=America/New_York:20260408T163000
DTEND;TZID=America/New_York:20260408T183000
DTSTAMP:20260425T082430
CREATED:20260219T202737Z
LAST-MODIFIED:20260219T202737Z
UID:10000657-1775665800-1775673000@www.nhti.edu
SUMMARY:The Decline of Outdoor Play - And the Rise in Sensory Issues
DESCRIPTION:Angela J. Hanscom is a pediatric occupational therapist and founder of TimberNook\, an award-winning developmental and nature-based program that has gained international popularity. She is the author of Balanced and Barefoot: How Unrestricted Outdoor Play Makes for Strong\, Confident\, and Capable Children. Hanscom is also a frequent contributor to The Washington Post and in 2019 won the Small Business of the Year Award for the State of New Hampshire. \nPlease register online for this free event. \nProfessional Development Certificates are available. Non-perishable donations to the NHTI Lynx Food Pantry are greatly appreciated. Direct questions to Cynthia Lucero at clucero@ccsnh.edu.
URL:https://www.nhti.edu/event/the-decline-of-outdoor-play-and-the-rise-in-sensory-issues/
LOCATION:Grappone Hall
CATEGORIES:Community Events,Student Events
ATTACH;FMTTYPE=image/png:https://www.nhti.edu/wp-content/uploads/2026/02/The-Decliner-of-Outdoor-Play-And-the-Rise-in-Sensory-Issues.png
ORGANIZER;CN="NHTI":MAILTO:NHTIinfo@ccsnh.edu
END:VEVENT
BEGIN:VEVENT
DTSTART;TZID=America/New_York:20260415T093000
DTEND;TZID=America/New_York:20260415T110000
DTSTAMP:20260425T082430
CREATED:20260317T132104Z
LAST-MODIFIED:20260317T132104Z
UID:10000810-1776245400-1776250800@www.nhti.edu
SUMMARY:StrongHER: Women and Girls in Sports Summit
DESCRIPTION:This event celebrates the power and impact of female athletes and focuses on empowering girls in sports by increasing participation in women’s athletics—from high school to college and beyond. \n\nSession 1: Wednesday\, April 15 at NHTI 9:30-11:30 a.m.\nSession 2: Thursday\, April 16 at Great Bay from 9:30-11:30 a.m.\n\nSign up by April 10. \nQuestions? Email amattarazzo@ccsnh.edu.
URL:https://www.nhti.edu/event/strongher-women-and-girls-in-sports-summit/
LOCATION:Goldie Crocker Wellness Center Gymnasium\, 31 College Drive\, Concord\, NH\, 03301\, United States
CATEGORIES:Athletics Events,Community Events,Student Events
ATTACH;FMTTYPE=image/png:https://www.nhti.edu/wp-content/uploads/2026/03/StrongHER-posters-editable.png
ORGANIZER;CN="Athletics":MAILTO:nhtiathletics@ccsnh.edu
END:VEVENT
BEGIN:VEVENT
DTSTART;TZID=America/New_York:20260424T190000
DTEND;TZID=America/New_York:20260424T210000
DTSTAMP:20260425T082430
CREATED:20260313T124909Z
LAST-MODIFIED:20260313T124909Z
UID:10000806-1777057200-1777064400@www.nhti.edu
SUMMARY:Stage Lynx Presents: Alice by Heart
DESCRIPTION:Alice by Heart is set in 1941 London during “the blitz” of World War 2. In an emergency bunker Tube station we follow Alice Spencer a teenager who escapes the trauma of the war and her best friend Alfred’s Tuberculosis diagnosis by going to her favorite book Alice’s Adventures in Wonderland and bringing everyone in the bunker with her.  \nTickets are $15 per person. The show is free with a NHTI ID. \nPerformances are: \n\nFriday 4/24 at 7pm\nSaturday 4/25 at 7pm\nSunday 4/26 at 2pm\n\nQuestions? Email: grey.dunlap23@gmail.com
URL:https://www.nhti.edu/event/stage-lynx-presents-alice-by-heart/2026-04-24/
LOCATION:NHTI Sweeney Auditorium\, 31 College Drive\, Concord\, NH\, 03301\, United States
CATEGORIES:Community Events,Student Events
ATTACH;FMTTYPE=image/png:https://www.nhti.edu/wp-content/uploads/2026/03/Alice-by-Heart-poster.png
ORGANIZER;CN="Student Life":MAILTO:nhtistudentlife@ccsnh.edu
END:VEVENT
BEGIN:VEVENT
DTSTART;TZID=America/New_York:20260425T190000
DTEND;TZID=America/New_York:20260425T210000
DTSTAMP:20260425T082430
CREATED:20260313T124909Z
LAST-MODIFIED:20260313T124909Z
UID:10000807-1777143600-1777150800@www.nhti.edu
SUMMARY:Stage Lynx Presents: Alice by Heart
DESCRIPTION:Alice by Heart is set in 1941 London during “the blitz” of World War 2. In an emergency bunker Tube station we follow Alice Spencer a teenager who escapes the trauma of the war and her best friend Alfred’s Tuberculosis diagnosis by going to her favorite book Alice’s Adventures in Wonderland and bringing everyone in the bunker with her.  \nTickets are $15 per person. The show is free with a NHTI ID. \nPerformances are: \n\nFriday 4/24 at 7pm\nSaturday 4/25 at 7pm\nSunday 4/26 at 2pm\n\nQuestions? Email: grey.dunlap23@gmail.com
URL:https://www.nhti.edu/event/stage-lynx-presents-alice-by-heart/2026-04-25/
LOCATION:NHTI Sweeney Auditorium\, 31 College Drive\, Concord\, NH\, 03301\, United States
CATEGORIES:Community Events,Student Events
ATTACH;FMTTYPE=image/png:https://www.nhti.edu/wp-content/uploads/2026/03/Alice-by-Heart-poster.png
ORGANIZER;CN="Student Life":MAILTO:nhtistudentlife@ccsnh.edu
END:VEVENT
BEGIN:VEVENT
DTSTART;TZID=America/New_York:20260426T140000
DTEND;TZID=America/New_York:20260426T160000
DTSTAMP:20260425T082430
CREATED:20260313T124924Z
LAST-MODIFIED:20260313T125115Z
UID:10000808-1777212000-1777219200@www.nhti.edu
SUMMARY:Stage Lynx Presents: Alice by Heart
DESCRIPTION:Alice by Heart is set in 1941 London during “the blitz” of World War 2. In an emergency bunker Tube station we follow Alice Spencer a teenager who escapes the trauma of the war and her best friend Alfred’s Tuberculosis diagnosis by going to her favorite book Alice’s Adventures in Wonderland and bringing everyone in the bunker with her.  \nTickets are $15 per person. The show is free with a NHTI ID. \nPerformances are: \n\nFriday 4/24 at 7pm\nSaturday 4/25 at 7pm\nSunday 4/26 at 2pm\n\nQuestions? Email: grey.dunlap23@gmail.com
URL:https://www.nhti.edu/event/stage-lynx-presents-alice-by-heart-2/
LOCATION:NHTI Sweeney Auditorium\, 31 College Drive\, Concord\, NH\, 03301\, United States
CATEGORIES:Community Events,Student Events
ATTACH;FMTTYPE=image/png:https://www.nhti.edu/wp-content/uploads/2026/03/Alice-by-Heart-poster-1.png
ORGANIZER;CN="Student Life":MAILTO:nhtistudentlife@ccsnh.edu
END:VEVENT
BEGIN:VEVENT
DTSTART;TZID=America/New_York:20260430T163000
DTEND;TZID=America/New_York:20260430T183000
DTSTAMP:20260425T082430
CREATED:20260317T182312Z
LAST-MODIFIED:20260423T134322Z
UID:10000811-1777566600-1777573800@www.nhti.edu
SUMMARY:Student Awards Day
DESCRIPTION:Please join us in our celebration of NHTI students! Light refreshments will be served. \nSchedule of events: \n\nStudent Awards Ceremony: 4:30-5:30 p.m. in the Sweeney Hall Auditorium\nCapstone/Class Project Poster Exhibition: 5:30-7 p.m. in the Student Center Rotunda
URL:https://www.nhti.edu/event/student-awards-day/
LOCATION:NHTI Sweeney Auditorium\, 31 College Drive\, Concord\, NH\, 03301\, United States
CATEGORIES:Community Events,Student Events
ORGANIZER;CN="Student Life":MAILTO:nhtistudentlife@ccsnh.edu
END:VEVENT
BEGIN:VEVENT
DTSTART;TZID=America/New_York:20260501T170000
DTEND;TZID=America/New_York:20260501T190000
DTSTAMP:20260425T082430
CREATED:20260413T172633Z
LAST-MODIFIED:20260413T172633Z
UID:10000835-1777654800-1777662000@www.nhti.edu
SUMMARY:Visual Arts Capstone Exhibit Opening Reception
DESCRIPTION:NHTI’s visual art seniors will showcase their capstone work during Intown Concord’s First Friday! Join us for the opening reception on May 1 from 5–7 p.m. at Go Native Gallery\, where the exhibit will be on view through May 3. The exhibition will then move to the NHTI Library for display throughout the summer.
URL:https://www.nhti.edu/event/visual-arts-capstone-exhibit-opening-reception/
CATEGORIES:Community Events,Student Events
ORGANIZER;CN="NHTI":MAILTO:NHTIinfo@ccsnh.edu
END:VEVENT
BEGIN:VEVENT
DTSTART;VALUE=DATE:20260605
DTEND;VALUE=DATE:20260606
DTSTAMP:20260425T082430
CREATED:20260302T205429Z
LAST-MODIFIED:20260302T205429Z
UID:10000803-1780617600-1780703999@www.nhti.edu
SUMMARY:NHTI Wellness Golf Tournament
DESCRIPTION:We are happy to host our annual golf tournament! Join us on June 5th at Beaver Meadow Golf Course for a day of community\, fun\, and golf!
URL:https://www.nhti.edu/event/nhti-wellness-golf-tournament/
CATEGORIES:Athletics Events,Community Events
ATTACH;FMTTYPE=image/jpeg:https://www.nhti.edu/wp-content/uploads/2026/03/Golf-scaled.jpg
ORGANIZER;CN="NHTI Athletics":MAILTO:nhtiathletics@ccsnh.edu
END:VEVENT
BEGIN:VEVENT
DTSTART;TZID=America/New_York:20260605T083000
DTEND;TZID=America/New_York:20260605T140000
DTSTAMP:20260425T082430
CREATED:20260424T191400Z
LAST-MODIFIED:20260424T191400Z
UID:10000837-1780648200-1780668000@www.nhti.edu
SUMMARY:Fore the Lynx - NHTI Athletics and Campus Life Golf Tournament
DESCRIPTION:Join us for our NHTI Athletics and Campus Life “Fore The Lynx” Golf Tournament\n“Every shot counts.  The three-foot putt is as important as the 300-yard drive.” Henry Cotton \nNHTI’s Athletics and Campus Life Department has announced “Fore The Lyx”. The first of two golf tournaments in their 11th annual Lynx Golf Series. All proceeds will benefit the NHTI Athletic and Wellness programs. The events feature team play with food\, games\, contests\, raffles\, door prizes\, and a lot of fun and laughter. \nDetails are as follows: \n\nJune 5 at Beaver Meadow Golf Course: Shotgun start at 8:30 a.m.\, followed by a BBQ lunch and awards; cost is $150 per player/$525 per team – Register Now\nSave the Date: October 2nd at Beaver Meadow – 9 Hole Tournament – More info to come soon!\n\n“Our Fore The Lynx Golf Tournament will be a tremendous event of community\, comradery\, and competition” says NHTI Athletics Director Annie Mattarazzo. “We are elated to continue the 11 year tradition of our Golf Series with goals of continuing to raise additional resources for our tremendous group of Student-Athletes and Coaches while also giving back to partners in our local area in a variety of ways.” \nPrizes will be awards to the top three teams\, the putting contest winner\, the men’s and women’s closest-to-the-pin winners\, and the men’s and women’s longest drive winners. \nThe Lynx Golf Series will also feature silent auctions\, on course competitions and fun\, mulligan packages\, door prizes\, and contests such as oven mitts challenge (wear a set of provided oven mitts to tee off) and NHTI’s signature “Got Rope?” challenge (purchase a length of rope and use it once per round to move your ball closer to the hole). \n\nJune 5: Register Now\nOctober 2:  Registration link to come soon!\n\n“Our NHTI Athletic Department provides a compliment experience to students who choose NHTI\,” says Annie\, “and the support of our community of fans\, supporters\, and other great partners in #LynxNation gives us the opportunity to help these athletes even more.” \nInterested in becoming an Event Sponsor? Learn More \nFor more information\, email Annie Mattarazzo at amattarazzo@ccsnh.edu or call the NHTI Athletics Department at 603-230-4041.
URL:https://www.nhti.edu/event/fore-the-lynx-nhti-athletics-and-campus-life-golf-tournament/
CATEGORIES:Athletics Events,Community Events
ATTACH;FMTTYPE=image/png:https://www.nhti.edu/wp-content/uploads/2026/04/NHTI-Golf-Tournament-26-Flyer.png
ORGANIZER;CN="NHTI Athletics":MAILTO:nhtiathletics@ccsnh.edu
END:VEVENT
END:VCALENDAR