BEGIN:VCALENDAR
VERSION:2.0
PRODID:-//NHTI - ECPv6.15.20//NONSGML v1.0//EN
CALSCALE:GREGORIAN
METHOD:PUBLISH
X-ORIGINAL-URL:https://www.nhti.edu
X-WR-CALDESC:Events for NHTI
REFRESH-INTERVAL;VALUE=DURATION:PT1H
X-Robots-Tag:noindex
X-PUBLISHED-TTL:PT1H
BEGIN:VTIMEZONE
TZID:America/New_York
BEGIN:DAYLIGHT
TZOFFSETFROM:-0500
TZOFFSETTO:-0400
TZNAME:EDT
DTSTART:20250309T070000
END:DAYLIGHT
BEGIN:STANDARD
TZOFFSETFROM:-0400
TZOFFSETTO:-0500
TZNAME:EST
DTSTART:20251102T060000
END:STANDARD
BEGIN:DAYLIGHT
TZOFFSETFROM:-0500
TZOFFSETTO:-0400
TZNAME:EDT
DTSTART:20260308T070000
END:DAYLIGHT
BEGIN:STANDARD
TZOFFSETFROM:-0400
TZOFFSETTO:-0500
TZNAME:EST
DTSTART:20261101T060000
END:STANDARD
BEGIN:DAYLIGHT
TZOFFSETFROM:-0500
TZOFFSETTO:-0400
TZNAME:EDT
DTSTART:20270314T070000
END:DAYLIGHT
BEGIN:STANDARD
TZOFFSETFROM:-0400
TZOFFSETTO:-0500
TZNAME:EST
DTSTART:20271107T060000
END:STANDARD
END:VTIMEZONE
BEGIN:VEVENT
DTSTART;TZID=America/New_York:20260330T120000
DTEND;TZID=America/New_York:20260330T130000
DTSTAMP:20260421T045219
CREATED:20260211T203133Z
LAST-MODIFIED:20260227T143027Z
UID:10000649-1774872000-1774875600@www.nhti.edu
SUMMARY:Meet Us Monday
DESCRIPTION:Have questions about NHTI? Joins us on Zoom for Meet Us Mondays! \nConnect with an Admissions counselor\, get answers to your questions\, and learn more about NHTI-Concord’s Community College. Whether you’re exploring programs\, wondering about the application process\, or just curious about campus life\, we’re here to help. RSVP for an upcoming Meet Us Monday\, and we’ll send you the link to join the session. Questions? Contact Amy Warner at awarner@ccsnh.edu.
URL:https://www.nhti.edu/event/meet-us-monday-3/2026-03-30/
LOCATION:Online\, NH\, United States
CATEGORIES:Admissions Events
ATTACH;FMTTYPE=image/png:https://www.nhti.edu/wp-content/uploads/2025/09/Meet-Us-Monday.png
END:VEVENT
BEGIN:VEVENT
DTSTART;TZID=America/New_York:20260330T121500
DTEND;TZID=America/New_York:20260330T122500
DTSTAMP:20260421T045219
CREATED:20260323T182715Z
LAST-MODIFIED:20260323T182715Z
UID:10000813-1774872900-1774873500@www.nhti.edu
SUMMARY:20-minute Strength Class
DESCRIPTION:Meet in the weight room for a quick lunchtime workout!
URL:https://www.nhti.edu/event/20-minute-strength-class/2026-03-30/
LOCATION:Goldie Crocker Wellness Center Gymnasium\, 31 College Drive\, Concord\, NH\, 03301\, United States
CATEGORIES:Athletics Events,Student Events
ORGANIZER;CN="NHTI Athletics":MAILTO:nhtiathletics@ccsnh.edu
END:VEVENT
END:VCALENDAR